BEGIN:VCALENDAR
VERSION:2.0
PRODID:-//Play Like a Girl - ECPv6.15.20//NONSGML v1.0//EN
CALSCALE:GREGORIAN
METHOD:PUBLISH
X-ORIGINAL-URL:https://iplaylikeagirl.org
X-WR-CALDESC:Events for Play Like a Girl
REFRESH-INTERVAL;VALUE=DURATION:PT1H
X-Robots-Tag:noindex
X-PUBLISHED-TTL:PT1H
BEGIN:VTIMEZONE
TZID:America/Chicago
BEGIN:DAYLIGHT
TZOFFSETFROM:-0600
TZOFFSETTO:-0500
TZNAME:CDT
DTSTART:20230312T080000
END:DAYLIGHT
BEGIN:STANDARD
TZOFFSETFROM:-0500
TZOFFSETTO:-0600
TZNAME:CST
DTSTART:20231105T070000
END:STANDARD
BEGIN:DAYLIGHT
TZOFFSETFROM:-0600
TZOFFSETTO:-0500
TZNAME:CDT
DTSTART:20240310T080000
END:DAYLIGHT
BEGIN:STANDARD
TZOFFSETFROM:-0500
TZOFFSETTO:-0600
TZNAME:CST
DTSTART:20241103T070000
END:STANDARD
BEGIN:DAYLIGHT
TZOFFSETFROM:-0600
TZOFFSETTO:-0500
TZNAME:CDT
DTSTART:20250309T080000
END:DAYLIGHT
BEGIN:STANDARD
TZOFFSETFROM:-0500
TZOFFSETTO:-0600
TZNAME:CST
DTSTART:20251102T070000
END:STANDARD
END:VTIMEZONE
BEGIN:VEVENT
DTSTART;TZID=America/Chicago:20240921T080000
DTEND;TZID=America/Chicago:20240921T120000
DTSTAMP:20260421T040539
CREATED:20240902T182333Z
LAST-MODIFIED:20240905T134202Z
UID:10000319-1726905600-1726920000@iplaylikeagirl.org
SUMMARY:Girls In Aviation Day
DESCRIPTION:Join Us for Women in Aviation International’s 10th Annual Girls in Aviation Day! \nThe Music City Chapter of Women in Aviation International is thrilled to host its annual Girls in Aviation Day\, a FREE event for girls aged 8-17. This exciting day is packed with hands-on activities and captivating displays that will spark a love for aviation. \nParticipants will design and test paper airplanes\, explore aviation navigation through a scavenger hunt\, and get hands-on experience with flight simulators led by a Tennessee Aviation Hall of Fame educator. Attendees will also learn about the parts of a plane and an engine through static displays\, climb into a Birddog aircraft\, and discover how pilots use radios. \nSpecial highlights include the PT-19 “Miss Cornelia” and live demonstrations from Blackhawk and Vanderbilt LifeFlight\, pending confirmation. Representatives from MTSU\, BNA’s Tower\, and the FAA will also be on-site to inspire the next generation of aviators. \nRegistration (check in and backpack pickup) is at 8:00 AM\, with activities following immediately from 8:30 AM until 12 PM. Lunch will NOT be provided. \nDon’t miss this incredible opportunity to explore the skies and discover the wonders of aviation. Space is limited to just 75 participants—reserve your spot today! \nREGISTER NOW
URL:https://iplaylikeagirl.org/event/girls-in-aviation-day/
LOCATION:AV8RS Hangar at Lebanon Municipal Airport\, 200 Aviation Way\, Suite 115\, TN\, 37090\, United States
CATEGORIES:Community
ATTACH;FMTTYPE=image/jpeg:https://iplaylikeagirl.org/wp-content/uploads/2024/09/AA033050-6A13-4DD5-84F8-2A15142471CF-scaled.jpeg
ORGANIZER;CN="Music City Chapter of Women in Aviation International":MAILTO:wai.musiccitychapter@gmail.com
END:VEVENT
END:VCALENDAR